BEGIN:VCALENDAR
VERSION:2.0
PRODID:-//Incline Boosters Club - ECPv6.15.13//NONSGML v1.0//EN
CALSCALE:GREGORIAN
METHOD:PUBLISH
X-ORIGINAL-URL:https://inclineboosters.com
X-WR-CALDESC:Events for Incline Boosters Club
REFRESH-INTERVAL;VALUE=DURATION:PT1H
X-Robots-Tag:noindex
X-PUBLISHED-TTL:PT1H
BEGIN:VTIMEZONE
TZID:America/Los_Angeles
BEGIN:DAYLIGHT
TZOFFSETFROM:-0800
TZOFFSETTO:-0700
TZNAME:PDT
DTSTART:20210314T100000
END:DAYLIGHT
BEGIN:STANDARD
TZOFFSETFROM:-0700
TZOFFSETTO:-0800
TZNAME:PST
DTSTART:20211107T090000
END:STANDARD
BEGIN:DAYLIGHT
TZOFFSETFROM:-0800
TZOFFSETTO:-0700
TZNAME:PDT
DTSTART:20220313T100000
END:DAYLIGHT
BEGIN:STANDARD
TZOFFSETFROM:-0700
TZOFFSETTO:-0800
TZNAME:PST
DTSTART:20221106T090000
END:STANDARD
BEGIN:DAYLIGHT
TZOFFSETFROM:-0800
TZOFFSETTO:-0700
TZNAME:PDT
DTSTART:20230312T100000
END:DAYLIGHT
BEGIN:STANDARD
TZOFFSETFROM:-0700
TZOFFSETTO:-0800
TZNAME:PST
DTSTART:20231105T090000
END:STANDARD
BEGIN:DAYLIGHT
TZOFFSETFROM:-0800
TZOFFSETTO:-0700
TZNAME:PDT
DTSTART:20240310T100000
END:DAYLIGHT
BEGIN:STANDARD
TZOFFSETFROM:-0700
TZOFFSETTO:-0800
TZNAME:PST
DTSTART:20241103T090000
END:STANDARD
BEGIN:DAYLIGHT
TZOFFSETFROM:-0800
TZOFFSETTO:-0700
TZNAME:PDT
DTSTART:20250309T100000
END:DAYLIGHT
BEGIN:STANDARD
TZOFFSETFROM:-0700
TZOFFSETTO:-0800
TZNAME:PST
DTSTART:20251102T090000
END:STANDARD
BEGIN:DAYLIGHT
TZOFFSETFROM:-0800
TZOFFSETTO:-0700
TZNAME:PDT
DTSTART:20260308T100000
END:DAYLIGHT
BEGIN:STANDARD
TZOFFSETFROM:-0700
TZOFFSETTO:-0800
TZNAME:PST
DTSTART:20261101T090000
END:STANDARD
END:VTIMEZONE
BEGIN:VEVENT
DTSTART;TZID=America/Los_Angeles:20251201T143000
DTEND;TZID=America/Los_Angeles:20251201T173000
DTSTAMP:20260423T063357
CREATED:20251102T222425Z
LAST-MODIFIED:20251102T222425Z
UID:3857-1764599400-1764610200@inclineboosters.com
SUMMARY:Boosters Holiday Pop-Up
DESCRIPTION:Holiday Swag Pop-Up 🎄Get into the holiday spirit with IHS and Incline swag! Enjoy a festive pop-up featuring a hot chocolate bar\, gingerbread treats\, candy canes\, and a special visit from Santa. There’ll be music\, merry vibes\, and exclusive discounts on merchandise—fun for all ages! \nMore details to come!
URL:https://inclineboosters.com/event/boosters-holiday-pop-up/
LOCATION:Incline High School\, 499 Village Blvd\, Incline Village\, NV\, 89451
END:VEVENT
BEGIN:VEVENT
DTSTART;TZID=America/Los_Angeles:20251124T171500
DTEND;TZID=America/Los_Angeles:20251124T201500
DTSTAMP:20260423T063357
CREATED:20251102T214808Z
LAST-MODIFIED:20251102T214808Z
UID:3841-1764004500-1764015300@inclineboosters.com
SUMMARY:Boosters Member Appreciation Night
DESCRIPTION:Join us for a fun evening celebrating our amazing Boosters Members! This exclusive special event is our way of saying thank you for your support and for helping us build a strong community. \nWhat to Expect: \n\n\nComplimentary appetizers for our guests \n\n\nAdditional food and drinks available for purchase \n\n\nTeam spirit fun with themed décor \n\n\nExciting raffle prizes — you must be present to win! \n\n\n🧥 Ugly Christmas Panther Sweater \n\n\n🧣 Ugly Christmas 49ers Sweater \n\n\n\n\n📅 The invitation will go out via our Membership email list. Please add this event to your calendar — it’s one of the many exclusive perks of being a Boosters Member! 
URL:https://inclineboosters.com/event/boosters-member-appreciation-night/
LOCATION:Crosby’s\, 868 Tahoe Blvd # 4\, Incline Village\, NV\, 89451\, United States
END:VEVENT
BEGIN:VEVENT
DTSTART;TZID=America/Los_Angeles:20251110T073000
DTEND;TZID=America/Los_Angeles:20251114T150000
DTSTAMP:20260423T063357
CREATED:20251102T220250Z
LAST-MODIFIED:20251102T220250Z
UID:3851-1762759800-1763132400@inclineboosters.com
SUMMARY:Teacher & Staff Appreciation Week
DESCRIPTION:Help us make this week amazing for our teachers & staff!\nJoin us as we celebrate our incredible teachers and staff for all they do! Throughout the week\, we’ll be showing our gratitude with special treats\, surprises\, and heartfelt thanks for their dedication and hard work.\nDonate here: https://incline-high-school-boosters.square.site/…/90…
URL:https://inclineboosters.com/event/teacher-staff-appreciation-week/
LOCATION:Incline High School\, 499 Village Blvd\, Incline Village\, NV\, 89451
END:VEVENT
BEGIN:VEVENT
DTSTART;TZID=America/Los_Angeles:20251002T143000
DTEND;TZID=America/Los_Angeles:20251002T193000
DTSTAMP:20260423T063357
CREATED:20250929T020912Z
LAST-MODIFIED:20250929T021013Z
UID:3802-1759415400-1759433400@inclineboosters.com
SUMMARY:Letterman Jacket Info and Customization Reservations
DESCRIPTION:Letterman Jackets Are Back at IHS!Reserve your spot to customize\, size\, and order your jacket—just in time for the holidays! \nReserve your 30-minute slot here: SignUpGenius Link \n(If you have two students\, please book two slots. If you arrive late\, you may need to wait.) \nAt your appointment\, you’ll: \n\n\nGet sized with growth predictions \n\n\nCustomize jacket colors (sleeves & ribbing) \n\n\nChoose patches & placement \n\n\nAsk questions before ordering \n\n\nBoosters will contribute $50 toward every student’s jacket!(No tax. This is not a fundraiser—just pay your jacket cost minus $50.)
URL:https://inclineboosters.com/event/letterman-jacket-info-and-customization-reservation/
LOCATION:Incline High School\, 499 Village Blvd\, Incline Village\, NV\, 89451
END:VEVENT
BEGIN:VEVENT
DTSTART;TZID=America/Los_Angeles:20251001T140000
DTEND;TZID=America/Los_Angeles:20251001T190000
DTSTAMP:20260423T063357
CREATED:20250929T020740Z
LAST-MODIFIED:20250929T020740Z
UID:3800-1759327200-1759345200@inclineboosters.com
SUMMARY:Letterman Jacket Info and Customization Reservations
DESCRIPTION:Letterman Jackets Are Back at IHS!Reserve your spot to customize\, size\, and order your jacket—just in time for the holidays! \nReserve your 30-minute slot here: SignUpGenius Link \n(If you have two students\, please book two slots. If you arrive late\, you may need to wait.) \nAt your appointment\, you’ll: \n\n\nGet sized with growth predictions \n\n\nCustomize jacket colors (sleeves & ribbing) \n\n\nChoose patches & placement \n\n\nAsk questions before ordering \n\n\nBoosters will contribute $50 toward every student’s jacket!(No tax. This is not a fundraiser—just pay your jacket cost minus $50.)
URL:https://inclineboosters.com/event/letterman-jacket-info-and-customization-reservations/
LOCATION:Incline High School\, 499 Village Blvd\, Incline Village\, NV\, 89451
END:VEVENT
BEGIN:VEVENT
DTSTART;VALUE=DATE:20250606
DTEND;VALUE=DATE:20250610
DTSTAMP:20260423T063357
CREATED:20250122T234714Z
LAST-MODIFIED:20250122T234714Z
UID:3457-1749168000-1749513599@inclineboosters.com
SUMMARY:Online Voting for Board Members
DESCRIPTION:A notice will be sent out May 29th to all members that they can nominate themselves or other for the IHS Boosters board. Elections will be held online June 6-9 and the board will be announced shortly thereafter. Once the board is selected\, a meeting will convene to determine roles amongst those elected.
URL:https://inclineboosters.com/event/online-voting-for-board-members/
LOCATION:NV
END:VEVENT
BEGIN:VEVENT
DTSTART;TZID=America/Los_Angeles:20250605T121500
DTEND;TZID=America/Los_Angeles:20250605T141500
DTSTAMP:20260423T063357
CREATED:20241018T184133Z
LAST-MODIFIED:20250122T234351Z
UID:3277-1749125700-1749132900@inclineboosters.com
SUMMARY:Boosters Board Meeting
DESCRIPTION:The Boosters Board meets once a month. All Boosters members are welcome! As the school is currently under construction and our room there is not accessible\, we are meeting at the Parasol Building (948 Incline Way). If you would like to speak at the meeting\, please let the secretary know so she can add you to the agenda: secretary@inclineboosters.com.
URL:https://inclineboosters.com/event/boosters-board-meeting-8/
LOCATION:Parasol Building\, 948 Incline Way\, Incline Village\, NV\, 89451\, United States Minor Outlying Islands
END:VEVENT
BEGIN:VEVENT
DTSTART;TZID=America/Los_Angeles:20250508T150000
DTEND;TZID=America/Los_Angeles:20250508T170000
DTSTAMP:20260423T063357
CREATED:20241018T184035Z
LAST-MODIFIED:20250508T062824Z
UID:3275-1746716400-1746723600@inclineboosters.com
SUMMARY:Boosters Board Meeting - Cancelled
DESCRIPTION:This meeting has been cancelled due to planning logistics for upcoming Boosters sponsored events. \n———- \nThe Boosters Board meets once a month. All Boosters members are welcome! As the school is currently under construction and our room there is not accessible\, we are meeting at the Parasol Building (948 Incline Way). If you would like to speak at the meeting\, please let the secretary know so she can add you to the agenda: secretary@inclineboosters.com.
URL:https://inclineboosters.com/event/boosters-board-meeting-7/
LOCATION:Parasol Building\, 948 Incline Way\, Incline Village\, NV\, 89451\, United States Minor Outlying Islands
END:VEVENT
BEGIN:VEVENT
DTSTART;TZID=America/Los_Angeles:20250417T130000
DTEND;TZID=America/Los_Angeles:20250417T141500
DTSTAMP:20260423T063357
CREATED:20241018T183739Z
LAST-MODIFIED:20250430T002021Z
UID:3273-1744894800-1744899300@inclineboosters.com
SUMMARY:Boosters Board Meeting
DESCRIPTION:The Boosters Board meets once a month. All Boosters members are welcome! As the school is currently under construction and our room there is not accessible\, we are meeting at the Parasol Building (948 Incline Way). If you would like to speak at the meeting\, please let the secretary know so she can add you to the agenda: secretary@inclineboosters.com.
URL:https://inclineboosters.com/event/boosters-board-meeting-6/
LOCATION:Parasol Building\, 948 Incline Way\, Incline Village\, NV\, 89451\, United States Minor Outlying Islands
END:VEVENT
BEGIN:VEVENT
DTSTART;TZID=America/Los_Angeles:20250315T170000
DTEND;TZID=America/Los_Angeles:20250315T210000
DTSTAMP:20260423T063357
CREATED:20241016T201008Z
LAST-MODIFIED:20250122T234954Z
UID:3258-1742058000-1742072400@inclineboosters.com
SUMMARY:43rd Annual Crab Feed
DESCRIPTION:CRAB FEED 2025\nClick here to buy your tickets: https://tinyurl.com/ihs-crabfeed2025 \n\nYES!  There is crab at the 2025 Crab Feed!\nYES! We will be at Bowl Incline\n\n\nThis is a brand new\, never publicly seen innovative\, creative\, and extraordinary space with beautiful flooring will be laid onto the lanes to create a unique & incredible experience.\nYou will have to see it to believe it.\nJoin us at Bowl Incline’s Incline Center for Events\n\n\n\nThe Crab Feed is one of the most important fundraisers for the Incline Boosters\, dedicated exclusively to supporting Incline High School\, a rural school with unique needs and limited resources. We work to bridge the gap between the minimal general operating support provided by the district and the resources truly needed for a thriving high school experience. Every donation\, ticket purchase\, and sponsorship makes a difference. Please consider joining us in ensuring Incline High School is fully funded. Thank you for your generous support!
URL:https://inclineboosters.com/event/43rd-annual-crab-feed/
LOCATION:NV
ATTACH;FMTTYPE=image/jpeg:https://inclineboosters.com/wp-content/uploads/2024/10/Incline-Crab-Feed-Website-Main-Image-1-20-25.jpg
END:VEVENT
BEGIN:VEVENT
DTSTART;TZID=America/Los_Angeles:20250213T121500
DTEND;TZID=America/Los_Angeles:20250213T141500
DTSTAMP:20260423T063357
CREATED:20241018T183659Z
LAST-MODIFIED:20250122T234102Z
UID:3271-1739448900-1739456100@inclineboosters.com
SUMMARY:Boosters Board Meeting
DESCRIPTION:The Boosters Board meets once a month. All Boosters members are welcome! As the school is currently under construction and our room there is not accessible\, we are meeting at the Parasol Building (948 Incline Way). If you would like to speak at the meeting\, please let the secretary know so she can add you to the agenda: secretary@inclineboosters.com.
URL:https://inclineboosters.com/event/boosters-board-meeting-5/
LOCATION:NV
END:VEVENT
BEGIN:VEVENT
DTSTART;TZID=America/Los_Angeles:20250109T121500
DTEND;TZID=America/Los_Angeles:20250109T140000
DTSTAMP:20260423T063357
CREATED:20241018T183626Z
LAST-MODIFIED:20250430T001615Z
UID:3269-1736424900-1736431200@inclineboosters.com
SUMMARY:Boosters Board Meeting
DESCRIPTION:The Boosters Board meets once a month. All Boosters members are welcome! As the school is currently under construction and our room there is not accessible\, we are meeting at the Parasol Building (948 Incline Way). If you would like to speak at the meeting\, please let the secretary know so she can add you to the agenda: secretary@inclineboosters.com.
URL:https://inclineboosters.com/event/boosters-board-meeting-4/
LOCATION:Parasol Building\, 948 Incline Way\, Incline Village\, NV\, 89451\, United States Minor Outlying Islands
END:VEVENT
BEGIN:VEVENT
DTSTART;TZID=America/Los_Angeles:20241212T173000
DTEND;TZID=America/Los_Angeles:20241212T193000
DTSTAMP:20260423T063357
CREATED:20241018T183549Z
LAST-MODIFIED:20241018T183549Z
UID:3267-1734024600-1734031800@inclineboosters.com
SUMMARY:Boosters Board Meeting
DESCRIPTION:The Boosters Board meets once a month. All Boosters members are welcome! As the school is currently under construction and our room there is not accessible\, we are meeting at the Parasol Building (948 Incline Way). If you would like to speak at the meeting\, please let the secretary know so she can add you to the agenda: secretary@inclineboosters.com.
URL:https://inclineboosters.com/event/boosters-board-meeting-3/
LOCATION:Parasol Building\, 948 Incline Way\, Incline Village\, NV\, 89451\, United States Minor Outlying Islands
END:VEVENT
BEGIN:VEVENT
DTSTART;TZID=America/Los_Angeles:20241114T173000
DTEND;TZID=America/Los_Angeles:20241114T193000
DTSTAMP:20260423T063357
CREATED:20241018T183435Z
LAST-MODIFIED:20241018T183435Z
UID:3265-1731605400-1731612600@inclineboosters.com
SUMMARY:Boosters Board Meeting
DESCRIPTION:The Boosters Board meets once a month. All Boosters members are welcome! As the school is currently under construction and our room there is not accessible\, we are meeting at the Parasol Building (948 Incline Way). If you would like to speak at the meeting\, please let the secretary know so she can add you to the agenda: secretary@inclineboosters.com.
URL:https://inclineboosters.com/event/boosters-board-meeting-2/
LOCATION:Parasol Building\, 948 Incline Way\, Incline Village\, NV\, 89451\, United States Minor Outlying Islands
END:VEVENT
BEGIN:VEVENT
DTSTART;TZID=America/Los_Angeles:20241017T173000
DTEND;TZID=America/Los_Angeles:20241017T193000
DTSTAMP:20260423T063357
CREATED:20241001T183027Z
LAST-MODIFIED:20241018T183333Z
UID:3263-1729186200-1729193400@inclineboosters.com
SUMMARY:Boosters Board Meeting
DESCRIPTION:The Boosters Board meets once a month. All Boosters members are welcome! As the school is currently under construction and our room there is not accessible\, we are meeting at the Parasol Building (948 Incline Way). If you would like to speak at the meeting\, please let the secretary know so she can add you to the agenda: secretary@inclineboosters.com.
URL:https://inclineboosters.com/event/boosters-board-meeting/
LOCATION:Parasol Building\, 948 Incline Way\, Incline Village\, NV\, 89451\, United States Minor Outlying Islands
END:VEVENT
BEGIN:VEVENT
DTSTART;TZID=America/Los_Angeles:20240316T180000
DTEND;TZID=America/Los_Angeles:20240316T220000
DTSTAMP:20260423T063357
CREATED:20240112T205221Z
LAST-MODIFIED:20240112T205221Z
UID:2990-1710612000-1710626400@inclineboosters.com
SUMMARY:42nd Annual "Crab Feed" Fun-raiser - Highlander Home
DESCRIPTION:Buy your tickets for the annual fun-raiser event which will be held at the Hyatt. \nWhy “Highlander Home” and not “Crab Feed”?\nDue to the cancellation of the 2024 Alaskan crab season (for the second year in a row)\, we surveyed our community to ask what the theme should be this year (since crab was not an option)\, and  the winner was… – a backyard BBQ! We can’t wait to celebrate with you all. \nhttps://inclineboosters.ejoinme.org/HighlanderHome2024
URL:https://inclineboosters.com/event/42nd-annual-crab-feed-fun-raiser-highlander-home/
LOCATION:Hyatt\, 111 Country Club Drive\, Incline Village\, Nevada\, 89451
END:VEVENT
BEGIN:VEVENT
DTSTART;TZID=America/Los_Angeles:20231213T130000
DTEND;TZID=America/Los_Angeles:20231213T150000
DTSTAMP:20260423T063357
CREATED:20230830T181417Z
LAST-MODIFIED:20230830T181417Z
UID:2810-1702472400-1702479600@inclineboosters.com
SUMMARY:Boosters Board Meeting
DESCRIPTION:The Boosters Board meets once a month. All Boosters members are welcome! As the school is currently under construction and our room there is not accessible\, we are meeting at the Parasol Building (948 Incline Way). If you would like to speak at the meeting\, please let the secretary know so she can add you to the agenda: secretary@inclineboosters.com. \nThe Boosters Board meets once a month. All Boosters members are welcome! As the school is currently under construction and our room there is not accessible\, we are meeting at the Parasol Building (948 Incline Way). If you would like to speak at the meeting\, please let the secretary know so she can add you to the agenda: secretary@inclineboosters.com. \nMeeting Dates are as Follows: \nSept. 13th\, Oct. 11th\, Nov. 8th\, Dec. 13th\, Jan. 10th\, Feb. 14th\, Mar. 13th\, Apr. 10th\, May 8th\, Jun. 5th.
URL:https://inclineboosters.com/event/boosters-board-meeting-2023-dec/
LOCATION:Parasol Building\, 948 Incline Way\, Incline Village\, NV\, 89451\, United States Minor Outlying Islands
END:VEVENT
BEGIN:VEVENT
DTSTART;TZID=America/Los_Angeles:20231108T130000
DTEND;TZID=America/Los_Angeles:20231108T150000
DTSTAMP:20260423T063357
CREATED:20230830T200014Z
LAST-MODIFIED:20230908T173938Z
UID:2808-1699448400-1699455600@inclineboosters.com
SUMMARY:Boosters Board Meeting
DESCRIPTION:The Boosters Board meets once a month. All Boosters members are welcome! As the school is currently under construction and our room there is not accessible\, we are meeting at the Parasol Building (948 Incline Way). If you would like to speak at the meeting\, please let the secretary know so she can add you to the agenda: secretary@inclineboosters.com. \nThe Boosters Board meets once a month. All Boosters members are welcome! As the school is currently under construction and our room there is not accessible\, we are meeting at the Parasol Building (948 Incline Way). If you would like to speak at the meeting\, please let the secretary know so she can add you to the agenda: secretary@inclineboosters.com. \nMeeting Dates are as Follows: \nSept. 13th\, Oct. 11th\, Nov. 8th\, Dec. 13th\, Jan. 10th\, Feb. 14th\, Mar. 13th\, Apr. 10th\, May 8th\, Jun. 5th.
URL:https://inclineboosters.com/event/boosters-board-meeting-2023-nov/
LOCATION:Parasol Building\, 948 Incline Way\, Incline Village\, NV\, 89451\, United States Minor Outlying Islands
END:VEVENT
BEGIN:VEVENT
DTSTART;TZID=America/Los_Angeles:20231011T130000
DTEND;TZID=America/Los_Angeles:20231011T150000
DTSTAMP:20260423T063357
CREATED:20230830T200024Z
LAST-MODIFIED:20230908T173929Z
UID:2806-1697029200-1697036400@inclineboosters.com
SUMMARY:Boosters Board Meeting
DESCRIPTION:The Boosters Board meets once a month. All Boosters members are welcome! As the school is currently under construction and our room there is not accessible\, we are meeting at the Parasol Building (948 Incline Way). If you would like to speak at the meeting\, please let the secretary know so she can add you to the agenda: secretary@inclineboosters.com. \nThe Boosters Board meets once a month. All Boosters members are welcome! As the school is currently under construction and our room there is not accessible\, we are meeting at the Parasol Building (948 Incline Way). If you would like to speak at the meeting\, please let the secretary know so she can add you to the agenda: secretary@inclineboosters.com. \nMeeting Dates are as Follows: \nSept. 13th\, Oct. 11th\, Nov. 8th\, Dec. 13th\, Jan. 10th\, Feb. 14th\, Mar. 13th\, Apr. 10th\, May 8th\, Jun. 5th.
URL:https://inclineboosters.com/event/boosters-board-meeting-2023-oct/
LOCATION:Parasol Building\, 948 Incline Way\, Incline Village\, NV\, 89451\, United States Minor Outlying Islands
END:VEVENT
BEGIN:VEVENT
DTSTART;TZID=America/Los_Angeles:20230913T110000
DTEND;TZID=America/Los_Angeles:20230913T130000
DTSTAMP:20260423T063357
CREATED:20230830T180019Z
LAST-MODIFIED:20230908T174038Z
UID:2799-1694602800-1694610000@inclineboosters.com
SUMMARY:Boosters Board Meeting
DESCRIPTION:The Boosters Board meets once a month. All Boosters members are welcome! As the school is currently under construction and our room there is not accessible\, we are meeting at the Parasol Building (948 Incline Way). If you would like to speak at the meeting\, please let the secretary know so she can add you to the agenda: secretary@inclineboosters.com. \nThe Boosters Board meets once a month. All Boosters members are welcome! As the school is currently under construction and our room there is not accessible\, we are meeting at the Parasol Building (948 Incline Way). If you would like to speak at the meeting\, please let the secretary know so she can add you to the agenda: secretary@inclineboosters.com. \n 
URL:https://inclineboosters.com/event/boosters-board-meeting-sept-2023/
LOCATION:Parasol Building\, 948 Incline Way\, Incline Village\, NV\, 89451\, United States Minor Outlying Islands
END:VEVENT
BEGIN:VEVENT
DTSTART;TZID=America/Los_Angeles:20230606T173000
DTEND;TZID=America/Los_Angeles:20230606T183000
DTSTAMP:20260423T063357
CREATED:20230427T063048Z
LAST-MODIFIED:20230427T063142Z
UID:2442-1686072600-1686076200@inclineboosters.com
SUMMARY:Annual Booster Member Meeting
DESCRIPTION:The Annual Booster Member meeting will be held in the Duffield Theater. We will also provide a Zoom link. Hear from Principal Tierney as well as candidates for Boosters Board for school year 2023-24
URL:https://inclineboosters.com/event/annual-booster-member-meeting/
LOCATION:Incline High School\, 499 Village Blvd\, Incline Village\, NV\, 89451
END:VEVENT
BEGIN:VEVENT
DTSTART;TZID=America/Los_Angeles:20230524T180000
DTEND;TZID=America/Los_Angeles:20230524T203000
DTSTAMP:20260423T063357
CREATED:20230523T131549Z
LAST-MODIFIED:20230523T131549Z
UID:2544-1684951200-1684960200@inclineboosters.com
SUMMARY:Parent Movie Night: Most Likely to Succeed
DESCRIPTION:
URL:https://inclineboosters.com/event/parent-movie-night-most-likely-to-succeed/
LOCATION:Incline High School\, 499 Village Blvd\, Incline Village\, NV\, 89451
END:VEVENT
BEGIN:VEVENT
DTSTART;VALUE=DATE:20230522
DTEND;VALUE=DATE:20230527
DTSTAMP:20260423T063357
CREATED:20230427T055841Z
LAST-MODIFIED:20230427T055841Z
UID:2430-1684713600-1685145599@inclineboosters.com
SUMMARY:Staff Appreciation Week
DESCRIPTION:Let’s celebrate our amazing Incline High School teachers and staff who work so hard! \nSign up here to volunteer for Staff Appreciation Week May 22-26: \nhttps://www.signupgenius.com/go/20f0a4eabab2aa0fb6-staff#/ 
URL:https://inclineboosters.com/event/staff-appreciation-week/
LOCATION:NV
END:VEVENT
BEGIN:VEVENT
DTSTART;TZID=America/Los_Angeles:20230517T180000
DTEND;TZID=America/Los_Angeles:20230517T190000
DTSTAMP:20260423T063357
CREATED:20230427T060410Z
LAST-MODIFIED:20230427T060410Z
UID:2432-1684346400-1684350000@inclineboosters.com
SUMMARY:Hispanic Parent Night
DESCRIPTION:Hispanic Parent Night Flyer
URL:https://inclineboosters.com/event/hispanic-parent-night/
LOCATION:Incline High School\, 499 Village Blvd\, Incline Village\, NV\, 89451
END:VEVENT
BEGIN:VEVENT
DTSTART;TZID=America/Los_Angeles:20230318T180000
DTEND;TZID=America/Los_Angeles:20230318T220000
DTSTAMP:20260423T063357
CREATED:20221018T231724Z
LAST-MODIFIED:20230116T194143Z
UID:2079-1679162400-1679176800@inclineboosters.com
SUMMARY:41st Annual Crab Feed Fun-Raiser
DESCRIPTION:Buy your tickets for the annual crab feed. More details coming soon! \nhttps://inclineboosters.ejoinme.org/crabfeed22 \n \n 
URL:https://inclineboosters.com/event/41st-annual-crab-feed-fun-raiser/
LOCATION:Hyatt\, 111 Country Club Drive\, Incline Village\, Nevada\, 89451
END:VEVENT
BEGIN:VEVENT
DTSTART;TZID=America/Los_Angeles:20220319T170000
DTEND;TZID=America/Los_Angeles:20220319T220000
DTSTAMP:20260423T063357
CREATED:20220115T223849Z
LAST-MODIFIED:20220208T182947Z
UID:1689-1647709200-1647727200@inclineboosters.com
SUMMARY:40th Annual 80's Crab Feed
DESCRIPTION:Party like it’s 1982!\nJoin us Saturday\, March 19\, 2022 \nThe 40th Annual Crab Feed is back and better than ever! This year we are back in person at the Hyatt for an 80’s themed event celebrating our 40th anniversary! \nHow to get involved: \n\nPurchase tickets or sponsor the event here.\n\nView our sponsorship packet here.\n\n\nDonate auction items for the silent and live auction here.\nVolunteer to be on the committee.\n\nContact: president@inclineboosters.com
URL:https://inclineboosters.com/event/40th-annual-crab-feed-funraiser/
LOCATION:Hyatt\, 111 Country Club Drive\, Incline Village\, Nevada\, 89451
ATTACH;FMTTYPE=image/png:https://inclineboosters.com/wp-content/uploads/2022/01/1.png
END:VEVENT
BEGIN:VEVENT
DTSTART;TZID=America/Los_Angeles:20220128T190000
DTEND;TZID=America/Los_Angeles:20220128T220000
DTSTAMP:20260423T063357
CREATED:20220115T224417Z
LAST-MODIFIED:20220115T224417Z
UID:1698-1643396400-1643407200@inclineboosters.com
SUMMARY:Student Snowcoming Dance
DESCRIPTION:Friday\, January 28 after the Boys Varsity Basketball Game vs Battle Mountain\nBoosters sponsored student dance to be held in the small gym after the boys varsity basketball game. Wear all white and come celebrate Snowcoming!
URL:https://inclineboosters.com/event/student-snowcoming-dance/
LOCATION:Incline High School\, 499 Village Blvd\, Incline Village\, NV\, 89451
END:VEVENT
BEGIN:VEVENT
DTSTART;TZID=America/Los_Angeles:20220119T173000
DTEND;TZID=America/Los_Angeles:20220119T183000
DTSTAMP:20260423T063357
CREATED:20220115T224231Z
LAST-MODIFIED:20220119T165822Z
UID:1695-1642613400-1642617000@inclineboosters.com
SUMMARY:Monthly Boosters Members Meeting
DESCRIPTION:Please join us for our monthly meeting where we discuss upcoming programs and events that impact our high school community and get “the scoop” from Principal Cahill and other special guests. \nMonthly Boosters meetings are open to all members. Meetings will be held in person in the Duffield Performing Arts Center and also online using Zoom. \nIt’s easy to become a member.\nhttp://inclineboosters.com/join \nIn Person Meeting Details\nJoin us in the Duffield Theater across from the school main office.\n \nOnline Zoom Meeting Details\nhttps://us06web.zoom.us/j/9592850558\nPassword: IHSBooster
URL:https://inclineboosters.com/event/monthly-boosters-members-meeting/
LOCATION:Incline High School\, 499 Village Blvd\, Incline Village\, NV\, 89451
END:VEVENT
BEGIN:VEVENT
DTSTART;TZID=America/Los_Angeles:20220119T123000
DTEND;TZID=America/Los_Angeles:20220119T140000
DTSTAMP:20260423T063357
CREATED:20220115T224118Z
LAST-MODIFIED:20220115T224118Z
UID:1692-1642595400-1642600800@inclineboosters.com
SUMMARY:IHS Middle School Parent Luncheon & Tour
DESCRIPTION:Please join us on Wednesday\, January 19 at 12:30pm for a luncheon and tour. Tour the campus\, mingle with current IHS parents\, and meet Principal Cahill. \nRSVP\nhttps://inclineboosters.com/mslunch/ 
URL:https://inclineboosters.com/event/ihs-middle-school-parent-luncheon-tour/
LOCATION:Incline High School\, 499 Village Blvd\, Incline Village\, NV\, 89451
END:VEVENT
END:VCALENDAR